BEGIN:VCALENDAR
VERSION:2.0
PRODID:-//wp-events-plugin.com//7.2.3//EN
TZID:Europe/London
X-WR-TIMEZONE:Europe/London
BEGIN:VEVENT
UID:106@drbschoolsandacademiesservices.co.uk
DTSTART;TZID=Europe/London:20260910T093000
DTEND;TZID=Europe/London:20260910T143000
DTSTAMP:20260309T122816Z
URL:https://drbschoolsandacademiesservices.co.uk/bookings/understanding-th
 e-new-ofsted-framework-bcfc/
SUMMARY:Understanding the new Ofsted framework (BCFC)
DESCRIPTION:Understanding the new Ofsted framework (BCFC)\nJoin Andrew Pilm
 ore for an in-depth exploration of the new Ofsted Framework. Over the day\
 , you will spend time exploring:\n\n 	the implications of the new gradings
  for your school: what does ‘expected standard’ look like for each cat
 egory and where does your school sit within these new gradings\;\n 	your s
 chool SEF – does this provide a concise evaluation of your school and is
  it a strong document which you can share with inspectors?\n 	how to prepa
 re for case sampling: what information Ofsted will gather from this to sup
 port their judgements\;\n 	how context may influence judgements\;\n 	what 
 this means in terms of practice in school and preparation for an inspectio
 n.\n\nDate: Thursday 10th September 2026 at 9:30am – 2.30pm (including l
 unch).\n\nVenue: Birmingham City Football Club.\n\nCost: £240 (+VAT) per 
 delegate.\n\n\n{\n  "@context": "https://schema.org"\,\n  "@type": "Course
 "\,\n  "name": "Understanding the new Ofsted framework (BCFC)"\,\n  "descr
 iption": "An in-depth course exploring the new Ofsted framework\, includin
 g the implications of new gradings\, school self-evaluation\, preparation 
 for case sampling\, and how school context may influence judgements."\,\n 
  "url": "https://drbschoolsandacademiesservices.co.uk/bookings/understandi
 ng-the-new-ofsted-framework-bcfc/"\,\n  "provider": {\n    "@type": "Organ
 ization"\,\n    "name": "DRB Schools & Academies Services"\,\n    "url": "
 https://drbschoolsandacademiesservices.co.uk/"\n  }\,\n  "hasCourseInstanc
 e": {\n    "@type": "CourseInstance"\,\n    "name": "Understanding the new
  Ofsted framework (BCFC)"\,\n    "courseMode": "In person"\,\n    "startDa
 te": "2026-09-10T09:30:00+01:00"\,\n    "endDate": "2026-09-10T14:30:00+01
 :00"\,\n    "location": {\n      "@type": "Place"\,\n      "name": "Birmin
 gham City Football Club"\,\n      "address": {\n        "@type": "PostalAd
 dress"\,\n        "streetAddress": "St. Andrews Stadium\, Cattell Rd"\,\n 
        "addressLocality": "Birmingham"\,\n        "addressRegion": "West M
 idlands"\,\n        "postalCode": "B9 4RL"\,\n        "addressCountry": "G
 B"\n      }\n    }\,\n    "offers": {\n      "@type": "Offer"\,\n      "ur
 l": "https://drbschoolsandacademiesservices.co.uk/bookings/understanding-t
 he-new-ofsted-framework-bcfc/"\,\n      "price": "240.00"\,\n      "priceC
 urrency": "GBP"\,\n      "availability": "https://schema.org/InStock"\n   
  }\n  }\n}\n
ATTACH;FMTTYPE=image/jpeg:https://drbschoolsandacademiesservices.co.uk/wp-
 content/uploads/2024/08/BCFC.jpg
CATEGORIES:Course
LOCATION:Birmingham City Football Club\, St. Andrews Stadium\, Cattell Rd\,
  Birmingham\, West Midlands\, B9 4RL\, United Kingdom
X-APPLE-STRUCTURED-LOCATION;VALUE=URI;X-ADDRESS=St. Andrews Stadium\, Catte
 ll Rd\, Birmingham\, West Midlands\, B9 4RL\, United Kingdom;X-APPLE-RADIU
 S=100;X-TITLE=Birmingham City Football Club:geo:0,0
END:VEVENT
BEGIN:VTIMEZONE
TZID:Europe/London
X-LIC-LOCATION:Europe/London
BEGIN:DAYLIGHT
DTSTART:20260329T020000
TZOFFSETFROM:+0000
TZOFFSETTO:+0100
TZNAME:BST
END:DAYLIGHT
END:VTIMEZONE
END:VCALENDAR